BEGIN:VCALENDAR
VERSION:2.0
PRODID:-//Construçao News - ECPv6.5.1.3//NONSGML v1.0//EN
CALSCALE:GREGORIAN
METHOD:PUBLISH
X-WR-CALNAME:Construçao News
X-ORIGINAL-URL:https://www.construcaonews.pt
X-WR-CALDESC:Eventos para Construçao News
REFRESH-INTERVAL;VALUE=DURATION:PT1H
X-Robots-Tag:noindex
X-PUBLISHED-TTL:PT1H
BEGIN:VTIMEZONE
TZID:Europe/Madrid
BEGIN:DAYLIGHT
TZOFFSETFROM:+0100
TZOFFSETTO:+0200
TZNAME:CEST
DTSTART:20240331T010000
END:DAYLIGHT
BEGIN:STANDARD
TZOFFSETFROM:+0200
TZOFFSETTO:+0100
TZNAME:CET
DTSTART:20241027T010000
END:STANDARD
END:VTIMEZONE
BEGIN:VEVENT
DTSTART;VALUE=DATE:20240605
DTEND;VALUE=DATE:20240607
DTSTAMP:20260420T220819
CREATED:20231214T132523Z
LAST-MODIFIED:20231214T132523Z
UID:11928-1717545600-1717718399@www.construcaonews.pt
SUMMARY:I Congreso Nacional del Hormigón
DESCRIPTION:Acceder a la web del evento. \nEl I Congreso Nacional del Hormigón de Zaragoza va a ser uno de los eventos más importantes en el ámbito de la construcción en España. Tiene como objetivo reunir a los principales expertos y profesionales del sector para compartir conocimientos\, experiencias y novedades en el campo del hormigón y sus aplicaciones. Será punto de encuentro de nuestras empresas con la Administración\, con los sectores suministradores de materias primas\, maquinaria\, mundo académico\, clientes y prensa especializada.
URL:https://www.construcaonews.pt/evento/i-congreso-nacional-del-hormigon/
LOCATION:Palacio de Congresos de Zaragoza\, Plaza Lucas Miret Rodriguez\, 1\, Zaragoza\, 50018\, España
END:VEVENT
BEGIN:VEVENT
DTSTART;VALUE=DATE:20240605
DTEND;VALUE=DATE:20240607
DTSTAMP:20260420T220819
CREATED:20240206T163923Z
LAST-MODIFIED:20240206T163923Z
UID:12124-1717545600-1717718399@www.construcaonews.pt
SUMMARY:4º Fórum Internacional de Construcción con Madera (FCM 2024)
DESCRIPTION:Acceder a la web del evento
URL:https://www.construcaonews.pt/evento/4o-forum-internacional-de-construccion-con-madera-fcm-2024/
LOCATION:Palacio de Congresos Baluarte\, Pl. del Baluarte\, s/n\, 31002 Pamplona\, Navarra\, Pamplona\, Navarra\, 31002\, España
END:VEVENT
END:VCALENDAR