BEGIN:VCALENDAR
VERSION:2.0
PRODID:-//Construçao News - ECPv6.5.1.3//NONSGML v1.0//EN
CALSCALE:GREGORIAN
METHOD:PUBLISH
X-ORIGINAL-URL:https://www.construcaonews.pt
X-WR-CALDESC:Eventos para Construçao News
REFRESH-INTERVAL;VALUE=DURATION:PT1H
X-Robots-Tag:noindex
X-PUBLISHED-TTL:PT1H
BEGIN:VTIMEZONE
TZID:Europe/Madrid
BEGIN:DAYLIGHT
TZOFFSETFROM:+0100
TZOFFSETTO:+0200
TZNAME:CEST
DTSTART:20230326T010000
END:DAYLIGHT
BEGIN:STANDARD
TZOFFSETFROM:+0200
TZOFFSETTO:+0100
TZNAME:CET
DTSTART:20231029T010000
END:STANDARD
END:VTIMEZONE
BEGIN:VEVENT
DTSTART;VALUE=DATE:20231021
DTEND;VALUE=DATE:20231023
DTSTAMP:20260422T033325
CREATED:20230710T130613Z
LAST-MODIFIED:20230829T075740Z
UID:11015-1697846400-1698019199@www.construcaonews.pt
SUMMARY:Feria del Medio Ambiente de Tàrrega 2023
DESCRIPTION:Feria anual de materiales para la construcción\, Tratamiento de residuos\, Energía renovable\, Productos ecológicos\, Ecología\, Medio ambiente\, Belleza\, Construcción\, Alimentación\, Energías renovables\n\nAcceder a la web del evento.
URL:https://www.construcaonews.pt/evento/feria-del-medio-ambiente-de-tarrega-2023/
END:VEVENT
END:VCALENDAR