BEGIN:VCALENDAR
VERSION:2.0
PRODID:-//Construçao News - ECPv6.5.1.3//NONSGML v1.0//EN
CALSCALE:GREGORIAN
METHOD:PUBLISH
X-ORIGINAL-URL:https://www.construcaonews.pt
X-WR-CALDESC:Eventos para Construçao News
REFRESH-INTERVAL;VALUE=DURATION:PT1H
X-Robots-Tag:noindex
X-PUBLISHED-TTL:PT1H
BEGIN:VTIMEZONE
TZID:Europe/Madrid
BEGIN:DAYLIGHT
TZOFFSETFROM:+0100
TZOFFSETTO:+0200
TZNAME:CEST
DTSTART:20260329T010000
END:DAYLIGHT
BEGIN:STANDARD
TZOFFSETFROM:+0200
TZOFFSETTO:+0100
TZNAME:CET
DTSTART:20261025T010000
END:STANDARD
END:VTIMEZONE
BEGIN:VEVENT
DTSTART;TZID=Europe/Madrid:20260424T215339
DTEND;TZID=Europe/Madrid:20260424T215339
DTSTAMP:20260424T215339
CREATED:20210914T093547Z
LAST-MODIFIED:20210914T093547Z
UID:6792-1777067619-1777067619@www.construcaonews.pt
SUMMARY:Rehabilita 2021
DESCRIPTION:Acceder a la web del evento
URL:https://www.construcaonews.pt/evento/rehabilita-2021/
END:VEVENT
BEGIN:VEVENT
DTSTART;TZID=Europe/Madrid:20260424T215339
DTEND;TZID=Europe/Madrid:20260424T215339
DTSTAMP:20260424T215339
CREATED:20211006T141715Z
LAST-MODIFIED:20211006T141715Z
UID:7068-1777067619-1777067619@www.construcaonews.pt
SUMMARY:Encuentro Técnico “El futuro de la climatización en la nueva vivienda”
DESCRIPTION:Acceder a la web del evento
URL:https://www.construcaonews.pt/evento/encuentro-tecnico-el-futuro-de-la-climatizacion-en-la-nueva-vivienda/
END:VEVENT
BEGIN:VEVENT
DTSTART;TZID=Europe/Madrid:20260424T215339
DTEND;TZID=Europe/Madrid:20260424T215339
DTSTAMP:20260424T215339
CREATED:20211027T105813Z
LAST-MODIFIED:20211027T105813Z
UID:7332-1777067619-1777067619@www.construcaonews.pt
SUMMARY:I Encuentro profesional ADIPAEX
DESCRIPTION:
URL:https://www.construcaonews.pt/evento/i-encuentro-profesional-adipaex/
END:VEVENT
END:VCALENDAR