BEGIN:VCALENDAR
VERSION:2.0
PRODID:-//Construçao News - ECPv6.5.1.3//NONSGML v1.0//EN
CALSCALE:GREGORIAN
METHOD:PUBLISH
X-WR-CALNAME:Construçao News
X-ORIGINAL-URL:https://www.construcaonews.pt
X-WR-CALDESC:Eventos para Construçao News
REFRESH-INTERVAL;VALUE=DURATION:PT1H
X-Robots-Tag:noindex
X-PUBLISHED-TTL:PT1H
BEGIN:VTIMEZONE
TZID:Europe/Madrid
BEGIN:DAYLIGHT
TZOFFSETFROM:+0100
TZOFFSETTO:+0200
TZNAME:CEST
DTSTART:20260329T010000
END:DAYLIGHT
BEGIN:STANDARD
TZOFFSETFROM:+0200
TZOFFSETTO:+0100
TZNAME:CET
DTSTART:20261025T010000
END:STANDARD
END:VTIMEZONE
BEGIN:VEVENT
DTSTART;TZID=Europe/Madrid:20260424T234959
DTEND;TZID=Europe/Madrid:20260424T234959
DTSTAMP:20260424T234959
CREATED:20210804T072218Z
LAST-MODIFIED:20210804T072218Z
UID:6676-1777074599-1777074599@www.construcaonews.pt
SUMMARY:FIRAMACO - Feria de Reforma y Rehabilitación
DESCRIPTION:Acceder a la web del evento
URL:https://www.construcaonews.pt/evento/firamaco-feria-de-reforma-y-rehabilitacion/
END:VEVENT
BEGIN:VEVENT
DTSTART;TZID=Europe/Madrid:20260424T234959
DTEND;TZID=Europe/Madrid:20260424T234959
DTSTAMP:20260424T234959
CREATED:20210804T073125Z
LAST-MODIFIED:20210804T073125Z
UID:6679-1777074599-1777074599@www.construcaonews.pt
SUMMARY:EUROSURFAS - Encuentro Internacional del Tratamiento de Superficies
DESCRIPTION:Acceder a la web del evento
URL:https://www.construcaonews.pt/evento/eurosurfas-encuentro-internacional-del-tratamiento-de-superficies/
END:VEVENT
BEGIN:VEVENT
DTSTART;TZID=Europe/Madrid:20260424T234959
DTEND;TZID=Europe/Madrid:20260424T234959
DTSTAMP:20260424T234959
CREATED:20210701T101252Z
LAST-MODIFIED:20210722T080259Z
UID:6379-1777074599-1777074599@www.construcaonews.pt
SUMMARY:REBUILD 2021 - Congreso de Arquitectura y Construcción 4.0
DESCRIPTION:Acceder a la web del evento
URL:https://www.construcaonews.pt/evento/rebuild-2021-congreso-de-arquitectura-y-construccion-4-0/
END:VEVENT
BEGIN:VEVENT
DTSTART;TZID=Europe/Madrid:20260424T234959
DTEND;TZID=Europe/Madrid:20260424T234959
DTSTAMP:20260424T234959
CREATED:20210902T070827Z
LAST-MODIFIED:20210902T070827Z
UID:6722-1777074599-1777074599@www.construcaonews.pt
SUMMARY:Expobiomasa 2021
DESCRIPTION:Acceder a la web del evento
URL:https://www.construcaonews.pt/evento/expobiomasa-2021/
END:VEVENT
BEGIN:VEVENT
DTSTART;TZID=Europe/Madrid:20260424T234959
DTEND;TZID=Europe/Madrid:20260424T234959
DTSTAMP:20260424T234959
CREATED:20210914T093547Z
LAST-MODIFIED:20210914T093547Z
UID:6792-1777074599-1777074599@www.construcaonews.pt
SUMMARY:Rehabilita 2021
DESCRIPTION:Acceder a la web del evento
URL:https://www.construcaonews.pt/evento/rehabilita-2021/
END:VEVENT
BEGIN:VEVENT
DTSTART;TZID=Europe/Madrid:20260424T234959
DTEND;TZID=Europe/Madrid:20260424T234959
DTSTAMP:20260424T234959
CREATED:20210907T104437Z
LAST-MODIFIED:20210907T104437Z
UID:6772-1777074599-1777074599@www.construcaonews.pt
SUMMARY:Sistema Solar Fotovoltaico de La Escandella
DESCRIPTION:Acceder a la web del evento
URL:https://www.construcaonews.pt/evento/sistema-solar-fotovoltaico-de-la-escandella/
END:VEVENT
END:VCALENDAR