BEGIN:VCALENDAR
VERSION:2.0
PRODID:-//Construçao News - ECPv6.5.1.3//NONSGML v1.0//EN
CALSCALE:GREGORIAN
METHOD:PUBLISH
X-WR-CALNAME:Construçao News
X-ORIGINAL-URL:https://www.construcaonews.pt
X-WR-CALDESC:Eventos para Construçao News
REFRESH-INTERVAL;VALUE=DURATION:PT1H
X-Robots-Tag:noindex
X-PUBLISHED-TTL:PT1H
BEGIN:VTIMEZONE
TZID:Europe/Madrid
BEGIN:DAYLIGHT
TZOFFSETFROM:+0100
TZOFFSETTO:+0200
TZNAME:CEST
DTSTART:20260329T010000
END:DAYLIGHT
BEGIN:STANDARD
TZOFFSETFROM:+0200
TZOFFSETTO:+0100
TZNAME:CET
DTSTART:20261025T010000
END:STANDARD
END:VTIMEZONE
BEGIN:VEVENT
DTSTART;TZID=Europe/Madrid:20260425T030256
DTEND;TZID=Europe/Madrid:20260425T030256
DTSTAMP:20260425T030256
CREATED:20210615T133759Z
LAST-MODIFIED:20210615T133759Z
UID:5947-1777086176-1777086176@www.construcaonews.pt
SUMMARY:Fórum de Urbanismo y Construcción Sostenible
DESCRIPTION:
URL:https://www.construcaonews.pt/evento/forum-de-urbanismo-y-construccion-sostenible/
END:VEVENT
BEGIN:VEVENT
DTSTART;TZID=Europe/Madrid:20260425T030256
DTEND;TZID=Europe/Madrid:20260425T030256
DTSTAMP:20260425T030256
CREATED:20210705T100253Z
LAST-MODIFIED:20210705T100253Z
UID:6444-1777086176-1777086176@www.construcaonews.pt
SUMMARY:Jornada Online Sobre Aerotermia\, una oportunidad para la recuperación verde en Murcia
DESCRIPTION:
URL:https://www.construcaonews.pt/evento/jornada-online-sobre-aerotermia-una-oportunidad-para-la-recuperacion-verde-en-murcia/
CATEGORIES:Webinar
END:VEVENT
BEGIN:VEVENT
DTSTART;TZID=Europe/Madrid:20260425T030256
DTEND;TZID=Europe/Madrid:20260425T030256
DTSTAMP:20260425T030256
CREATED:20210622T114916Z
LAST-MODIFIED:20210708T075214Z
UID:6110-1777086176-1777086176@www.construcaonews.pt
SUMMARY:Webinar: Certificación de edificios sostenibles con materiales cerámicos. Sellos VERDE\, LEED y BREEAM
DESCRIPTION:Acceder a la web del evento
URL:https://www.construcaonews.pt/evento/webinar-certificacion-de-edificios-sostenibles-con-materiales-ceramicos-sellos-verde-leed-y-breeam/
CATEGORIES:Webinar
END:VEVENT
BEGIN:VEVENT
DTSTART;TZID=Europe/Madrid:20260425T030256
DTEND;TZID=Europe/Madrid:20260425T030256
DTSTAMP:20260425T030256
CREATED:20210709T081531Z
LAST-MODIFIED:20210709T081531Z
UID:6498-1777086176-1777086176@www.construcaonews.pt
SUMMARY:Rondas Técnicas: Especial Aislamiento Acústico
DESCRIPTION:Acceder a la web del evento
URL:https://www.construcaonews.pt/evento/rondas-tecnicas-especial-aislamiento-acustico/
END:VEVENT
BEGIN:VEVENT
DTSTART;TZID=Europe/Madrid:20260425T030256
DTEND;TZID=Europe/Madrid:20260425T030256
DTSTAMP:20260425T030256
CREATED:20210708T074755Z
LAST-MODIFIED:20210708T075100Z
UID:6465-1777086176-1777086176@www.construcaonews.pt
SUMMARY:Tecnología y seguridad al servicio de las piscinas y centros acuáticos
DESCRIPTION:Acceder a la web del evento
URL:https://www.construcaonews.pt/evento/tecnologia-y-seguridad-al-servicio-de-las-piscinas-y-centros-acuaticos/
CATEGORIES:Webinar
END:VEVENT
BEGIN:VEVENT
DTSTART;TZID=Europe/Madrid:20260425T030256
DTEND;TZID=Europe/Madrid:20260425T030256
DTSTAMP:20260425T030256
CREATED:20210621T074031Z
LAST-MODIFIED:20210621T074305Z
UID:5988-1777086176-1777086176@www.construcaonews.pt
SUMMARY:Webinar: Hormigón ecológico de alta densidad para aplicaciones radiológicas
DESCRIPTION:
URL:https://www.construcaonews.pt/evento/webinar-hormigon-ecologico-de-alta-densidad-para-aplicaciones-radiologicas/
CATEGORIES:Webinar
END:VEVENT
END:VCALENDAR