BEGIN:VCALENDAR
VERSION:2.0
PRODID:-//Construçao News - ECPv6.5.1.3//NONSGML v1.0//EN
CALSCALE:GREGORIAN
METHOD:PUBLISH
X-WR-CALNAME:Construçao News
X-ORIGINAL-URL:https://www.construcaonews.pt
X-WR-CALDESC:Eventos para Construçao News
REFRESH-INTERVAL;VALUE=DURATION:PT1H
X-Robots-Tag:noindex
X-PUBLISHED-TTL:PT1H
BEGIN:VTIMEZONE
TZID:Europe/Madrid
BEGIN:DAYLIGHT
TZOFFSETFROM:+0100
TZOFFSETTO:+0200
TZNAME:CEST
DTSTART:20240331T010000
END:DAYLIGHT
BEGIN:STANDARD
TZOFFSETFROM:+0200
TZOFFSETTO:+0100
TZNAME:CET
DTSTART:20241027T010000
END:STANDARD
BEGIN:DAYLIGHT
TZOFFSETFROM:+0100
TZOFFSETTO:+0200
TZNAME:CEST
DTSTART:20250330T010000
END:DAYLIGHT
BEGIN:STANDARD
TZOFFSETFROM:+0200
TZOFFSETTO:+0100
TZNAME:CET
DTSTART:20251026T010000
END:STANDARD
END:VTIMEZONE
BEGIN:VEVENT
DTSTART;VALUE=DATE:20240521
DTEND;VALUE=DATE:20240524
DTSTAMP:20260421T052615
CREATED:20240321T151020Z
LAST-MODIFIED:20240321T151020Z
UID:12331-1716249600-1716508799@www.construcaonews.pt
SUMMARY:Construmat 2024
DESCRIPTION:Acceder a la web el evento. \nTu cita sectorial en Barcelona — Eficiencia energética\, passive house\, materiales renovables\, bioclimáticos y mucho más. Súmate al congreso clave para conocer los proyectos que están transformando el sector. \n 
URL:https://www.construcaonews.pt/evento/construmat-2024/
LOCATION:Fira de Barcelona
END:VEVENT
BEGIN:VEVENT
DTSTART;VALUE=DATE:20240605
DTEND;VALUE=DATE:20240607
DTSTAMP:20260421T052615
CREATED:20231214T132523Z
LAST-MODIFIED:20231214T132523Z
UID:11928-1717545600-1717718399@www.construcaonews.pt
SUMMARY:I Congreso Nacional del Hormigón
DESCRIPTION:Acceder a la web del evento. \nEl I Congreso Nacional del Hormigón de Zaragoza va a ser uno de los eventos más importantes en el ámbito de la construcción en España. Tiene como objetivo reunir a los principales expertos y profesionales del sector para compartir conocimientos\, experiencias y novedades en el campo del hormigón y sus aplicaciones. Será punto de encuentro de nuestras empresas con la Administración\, con los sectores suministradores de materias primas\, maquinaria\, mundo académico\, clientes y prensa especializada.
URL:https://www.construcaonews.pt/evento/i-congreso-nacional-del-hormigon/
LOCATION:Palacio de Congresos de Zaragoza\, Plaza Lucas Miret Rodriguez\, 1\, Zaragoza\, 50018\, España
END:VEVENT
BEGIN:VEVENT
DTSTART;VALUE=DATE:20240605
DTEND;VALUE=DATE:20240607
DTSTAMP:20260421T052615
CREATED:20240206T163923Z
LAST-MODIFIED:20240206T163923Z
UID:12124-1717545600-1717718399@www.construcaonews.pt
SUMMARY:4º Fórum Internacional de Construcción con Madera (FCM 2024)
DESCRIPTION:Acceder a la web del evento
URL:https://www.construcaonews.pt/evento/4o-forum-internacional-de-construccion-con-madera-fcm-2024/
LOCATION:Palacio de Congresos Baluarte\, Pl. del Baluarte\, s/n\, 31002 Pamplona\, Navarra\, Pamplona\, Navarra\, 31002\, España
END:VEVENT
BEGIN:VEVENT
DTSTART;VALUE=DATE:20241105
DTEND;VALUE=DATE:20241109
DTSTAMP:20260421T052615
CREATED:20230609T083335Z
LAST-MODIFIED:20230609T083335Z
UID:10980-1730764800-1731110399@www.construcaonews.pt
SUMMARY:Veteco 2024
DESCRIPTION:VETECO destaca por su relevancia en el mercado de la edificación y la sinergia que establece con otras ferias paralelas en construcción\, electrificación\, industria 4.0 y electrónica. \nAcceder a la web del evento.
URL:https://www.construcaonews.pt/evento/veteco-2024/
LOCATION:IFEMA Feria de Madrid
END:VEVENT
BEGIN:VEVENT
DTSTART;VALUE=DATE:20241105
DTEND;VALUE=DATE:20241109
DTSTAMP:20260421T052615
CREATED:20230710T131102Z
LAST-MODIFIED:20230710T131239Z
UID:11021-1730764800-1731110399@www.construcaonews.pt
SUMMARY:Construtec 2024
DESCRIPTION:Construtec se celebrará en Ifema Feria de Madrid Madrid del próximo 5 al 8 noviembre 2024 presentando las novedades de empresas de España e internacionales relacionadas con los sectores de Diseño de interiores\, Aire acondicionado\, Equipamiento urbano\, Arquitectura\, Fontanería\, Equipamiento sanitario\, Materiales\, Equipamiento y tecnología\, Construcción.\n\nAcceder a la web del evento.\n\n\n 
URL:https://www.construcaonews.pt/evento/construtec-2024/
LOCATION:IFEMA Feria de Madrid
END:VEVENT
BEGIN:VEVENT
DTSTART;VALUE=DATE:20250410
DTEND;VALUE=DATE:20250413
DTSTAMP:20260421T052615
CREATED:20241104T143850Z
LAST-MODIFIED:20241104T143850Z
UID:12913-1744243200-1744502399@www.construcaonews.pt
SUMMARY:Tektónica 2025
DESCRIPTION:A 27ª edição da feira de construção terá lugar de 10 a 12 de Abril de 2025\, novamente em conjunto com o SIL. Em 2025\, a organização pretende reforçar o seu estatuto enquanto “marketplace” e como “local privilegiado” para a apresentação das principais novidades e tendências.
URL:https://www.construcaonews.pt/evento/tektonica-2025/
END:VEVENT
END:VCALENDAR