BEGIN:VCALENDAR
VERSION:2.0
PRODID:-//Construçao News - ECPv6.5.1.3//NONSGML v1.0//EN
CALSCALE:GREGORIAN
METHOD:PUBLISH
X-WR-CALNAME:Construçao News
X-ORIGINAL-URL:https://www.construcaonews.pt
X-WR-CALDESC:Eventos para Construçao News
REFRESH-INTERVAL;VALUE=DURATION:PT1H
X-Robots-Tag:noindex
X-PUBLISHED-TTL:PT1H
BEGIN:VTIMEZONE
TZID:Europe/Madrid
BEGIN:DAYLIGHT
TZOFFSETFROM:+0100
TZOFFSETTO:+0200
TZNAME:CEST
DTSTART:20260329T010000
END:DAYLIGHT
BEGIN:STANDARD
TZOFFSETFROM:+0200
TZOFFSETTO:+0100
TZNAME:CET
DTSTART:20261025T010000
END:STANDARD
END:VTIMEZONE
BEGIN:VEVENT
DTSTART;TZID=Europe/Madrid:20260425T135958
DTEND;TZID=Europe/Madrid:20260425T135958
DTSTAMP:20260425T135958
CREATED:20211102T120452Z
LAST-MODIFIED:20211102T120452Z
UID:7369-1777125598-1777125598@www.construcaonews.pt
SUMMARY:ANCECO XIII Congreso Nacional
DESCRIPTION:Acceder a la web del evento
URL:https://www.construcaonews.pt/evento/anceco-xiii-congreso-nacional/
END:VEVENT
END:VCALENDAR