BEGIN:VCALENDAR
VERSION:2.0
PRODID:-//Construçao News - ECPv6.5.1.3//NONSGML v1.0//EN
CALSCALE:GREGORIAN
METHOD:PUBLISH
X-WR-CALNAME:Construçao News
X-ORIGINAL-URL:https://www.construcaonews.pt
X-WR-CALDESC:Eventos para Construçao News
REFRESH-INTERVAL;VALUE=DURATION:PT1H
X-Robots-Tag:noindex
X-PUBLISHED-TTL:PT1H
BEGIN:VTIMEZONE
TZID:Europe/Madrid
BEGIN:DAYLIGHT
TZOFFSETFROM:+0100
TZOFFSETTO:+0200
TZNAME:CEST
DTSTART:20220327T010000
END:DAYLIGHT
BEGIN:STANDARD
TZOFFSETFROM:+0200
TZOFFSETTO:+0100
TZNAME:CET
DTSTART:20221030T010000
END:STANDARD
END:VTIMEZONE
BEGIN:VEVENT
DTSTART;VALUE=DATE:20221103
DTEND;VALUE=DATE:20221114
DTSTAMP:20260423T231146
CREATED:20221107T113758Z
LAST-MODIFIED:20221107T113758Z
UID:10402-1667433600-1668383999@www.construcaonews.pt
SUMMARY:Marbella Design Art 2022
DESCRIPTION:Acceder a la web del evento.
URL:https://www.construcaonews.pt/evento/marbella-design-art-2022/
LOCATION:Palacio de Congresos y Exposiciones Adolfo Suarez\, C. José Meliá\, 2\, Marbella\, Málaga\, 29602\, España
END:VEVENT
BEGIN:VEVENT
DTSTART;TZID=Europe/Madrid:20221108T190000
DTEND;TZID=Europe/Madrid:20221108T203000
DTSTAMP:20260423T231146
CREATED:20221102T133050Z
LAST-MODIFIED:20221102T133050Z
UID:10372-1667934000-1667939400@www.construcaonews.pt
SUMMARY:Marbella Design 2022: "Tendencias de mosaico sostenible 2023"
DESCRIPTION:Acceder a la web del evento.
URL:https://www.construcaonews.pt/evento/marbella-design-2022-tendencias-de-mosaico-sostenible-2023/
LOCATION:Palacio de Ferias de Marbella\, Calle José Meliá 2\, Marbella\, España
END:VEVENT
END:VCALENDAR