BEGIN:VCALENDAR
VERSION:2.0
PRODID:-//Construçao News - ECPv6.5.1.3//NONSGML v1.0//EN
CALSCALE:GREGORIAN
METHOD:PUBLISH
X-WR-CALNAME:Construçao News
X-ORIGINAL-URL:https://www.construcaonews.pt
X-WR-CALDESC:Eventos para Construçao News
REFRESH-INTERVAL;VALUE=DURATION:PT1H
X-Robots-Tag:noindex
X-PUBLISHED-TTL:PT1H
BEGIN:VTIMEZONE
TZID:Europe/Madrid
BEGIN:DAYLIGHT
TZOFFSETFROM:+0100
TZOFFSETTO:+0200
TZNAME:CEST
DTSTART:20220327T010000
END:DAYLIGHT
BEGIN:STANDARD
TZOFFSETFROM:+0200
TZOFFSETTO:+0100
TZNAME:CET
DTSTART:20221030T010000
END:STANDARD
END:VTIMEZONE
BEGIN:VEVENT
DTSTART;VALUE=DATE:20221014
DTEND;VALUE=DATE:20221017
DTSTAMP:20260424T024253
CREATED:20220628T084859Z
LAST-MODIFIED:20220628T084859Z
UID:9661-1665705600-1665964799@www.construcaonews.pt
SUMMARY:Ibiza Home Meeting 2022
DESCRIPTION:Acceder a la web del evento. \nII Feria sobre las novedades de empresas de España e internacionales relacionadas con el sector Inmobiliario y de la Construcción.Tendrá lugar los días 14 al 16 de octubre de 2022 en FECOEF- Ferias\, Congresos y Eventos de Ibiza.
URL:https://www.construcaonews.pt/evento/ibiza-home-meeting-2022/
LOCATION:FECOEF- Ferias\, Congresos y Eventos de Ibiza
END:VEVENT
END:VCALENDAR