BEGIN:VCALENDAR
VERSION:2.0
PRODID:-//Construçao News - ECPv6.5.1.3//NONSGML v1.0//EN
CALSCALE:GREGORIAN
METHOD:PUBLISH
X-WR-CALNAME:Construçao News
X-ORIGINAL-URL:https://www.construcaonews.pt
X-WR-CALDESC:Eventos para Construçao News
REFRESH-INTERVAL;VALUE=DURATION:PT1H
X-Robots-Tag:noindex
X-PUBLISHED-TTL:PT1H
BEGIN:VTIMEZONE
TZID:Europe/Madrid
BEGIN:DAYLIGHT
TZOFFSETFROM:+0100
TZOFFSETTO:+0200
TZNAME:CEST
DTSTART:20220327T010000
END:DAYLIGHT
BEGIN:STANDARD
TZOFFSETFROM:+0200
TZOFFSETTO:+0100
TZNAME:CET
DTSTART:20221030T010000
END:STANDARD
END:VTIMEZONE
BEGIN:VEVENT
DTSTART;VALUE=DATE:20220526
DTEND;VALUE=DATE:20220530
DTSTAMP:20260424T101121
CREATED:20220413T080327Z
LAST-MODIFIED:20220413T080327Z
UID:8668-1653523200-1653868799@www.construcaonews.pt
SUMMARY:SIMA 2022
DESCRIPTION:Acceder a la web del evento.
URL:https://www.construcaonews.pt/evento/sima-2022/
LOCATION:IFEMA Feria de Madrid
END:VEVENT
END:VCALENDAR